BEGIN:VCALENDAR
VERSION:2.0
PRODID:icalendar-ruby
CALSCALE:GREGORIAN
METHOD:PUBLISH
BEGIN:VEVENT
DTSTAMP:20260423T102558Z
UID:51-3262955@saintpetersredbluff.org
DTSTART:20261015T163000Z
DTEND:20261016T173000Z
CLASS:PUBLIC
CREATED:20260422T185457
DESCRIPTION:Bible Study with Fred Reynolds happens every third Thursday at 
 Marsh Cottage at St. Peter's.\nThe first Thursday of each month\, Bible St
 udy will take place after Morning Prayer at Lassen House\,  705 Luther Rd
 \, Red Bluff\, CA 96080 \n
LAST-MODIFIED:20260422T185457
LOCATION:Marsh Cottage\, (1st Thursday of month at Lassen House\, 705 Luthe
 r Rd.)
SUMMARY:Bible Study
URL;VALUE=URI:https://www.saintpetersredbluff.org/events/bible-study--51/20
 26-10-15
ATTACH;FILENAME=timothy-eberly-_4l76rRSsr4-unsplash.png;FMTTYPE=image/png:h
 ttps://dq5pwpg1q8ru0.cloudfront.net/2023/01/01/14/46/35/cfc13a2a-3164-4f46
 -9835-8c0ab7bfec94/timothy-eberly-_4l76rRSsr4-unsplash.png
END:VEVENT
END:VCALENDAR
