BEGIN:VCALENDAR
VERSION:2.0
PRODID:icalendar-ruby
CALSCALE:GREGORIAN
METHOD:PUBLISH
BEGIN:VEVENT
DTSTAMP:20260425T185718Z
UID:153-3212100@saintpetersredbluff.org
DTSTART:20260502T160000Z
DTEND:20260502T190000Z
CLASS:PUBLIC
CREATED:20260419T045249
DESCRIPTION:Estate Planning Workshop\nMay 2\, 9 am-noon at All Saints Episc
 opal Church\, \n2150 Benton Dr\, Redding\, Ca 96003\nIn person only\nRSVP
  to Leanne Wilson by April 30:  lmwilson143@gmail.com 
LAST-MODIFIED:20260419T045249
LOCATION:All Saints Episcopal Church
SUMMARY:Estate Planning Workshop
URL;VALUE=URI:https://www.saintpetersredbluff.org/events/estate-planning-wo
 rkshop/2026-05-02
ATTACH;FILENAME=estate-planning.png;FMTTYPE=image/png:https://dq5pwpg1q8ru0
 .cloudfront.net/2026/04/19/11/52/49/0b552d79-574f-4bcb-b79d-339a33b5d2b6/e
 state-planning.png
END:VEVENT
END:VCALENDAR
