BEGIN:VCALENDAR
VERSION:2.0
PRODID:icalendar-ruby
CALSCALE:GREGORIAN
METHOD:PUBLISH
BEGIN:VEVENT
DTSTAMP:20260421T130126Z
UID:21-3236745@saintpetersredbluff.org
DTSTART:20230904T190000Z
DTEND:20230904T200000Z
CLASS:PUBLIC
CREATED:20260421T041520
DESCRIPTION:The Lord's Table
LAST-MODIFIED:20260421T041520
LOCATION:Parish Hall 
SUMMARY:The Lord's Table 
URL;VALUE=URI:https://www.saintpetersredbluff.org/events/the-lords-table/20
 23-09-04
ATTACH;FILENAME=fL.jpeg;FMTTYPE=image/jpeg:https://dq5pwpg1q8ru0.cloudfront
 .net/2022/02/15/09/58/25/39357e66-6cd8-4ced-9361-d6391df80b69/fL.jpeg
END:VEVENT
END:VCALENDAR
